BEGIN:VCALENDAR
VERSION:2.0
PRODID:-//eventon.com NONSGML v1.0//EN
CALSCALE:GREGORIAN
METHOD:PUBLISH
BEGIN:VEVENT
UID:69e63df0a5454
DTSTAMP:20260420T145336Z
DTSTART:20250628
DTEND:20250629
LOCATION:
SUMMARY:Adult Summer Reading Challenge!
DESCRIPTION:Starts June 28 &#8211; Ends August 23. Winners announced August
  25!\nhttps://www.stalbansfreelibrary.org/events/adult-summer-reading-progr
 am/
URL:https://www.stalbansfreelibrary.org/events/adult-summer-reading-program/
END:VEVENT
END:VCALENDAR